BEGIN:VCALENDAR
VERSION:2.0
PRODID:-//Eagle Ridge Firearms Academy - ECPv4.6.1//NONSGML v1.0//EN
CALSCALE:GREGORIAN
METHOD:PUBLISH
X-WR-CALNAME:Eagle Ridge Firearms Academy
X-ORIGINAL-URL:http://erfirearmsacademy.com
X-WR-CALDESC:Events for Eagle Ridge Firearms Academy
BEGIN:VEVENT
DTSTART;TZID=UTC+0:20141206T090000
DTEND;TZID=UTC+0:20141206T170000
DTSTAMP:20260423T174506
CREATED:20141126T215623Z
LAST-MODIFIED:20150114T185329Z
UID:265-1417856400-1417885200@erfirearmsacademy.com
SUMMARY:NRA Basic Pistol Course in Murrieta\, CA on December 6\, 2014
DESCRIPTION:This course is at least 8-hours long and includes classroom and range time learning to shoot revolvers and semi-automatic pistols. Students learn NRA’s rules for safe gun handling; pistol parts and operation; ammunition; shooting fundamentals; range rules; shooting from the bench rest position\, and two handed standing positions; cleaning the pistol; and continued opportunities for skill development. Students will receive the NRA Guide to the Basics of Pistol Shooting handbook\, NRA Gun Safety Rules brochure\, take a Basics of Pistol Shooting Student Examination\, and course completion certificate. We also offer the test and issue the California DOJ Handgun Safety Certificate(HSC). Hearing and eye protection is required\, 50 rounds of ammunition. All student firearms will be inspected for safety and serviceability prior to shooting. Students should plan and dress for warmer weather and bring a portable chair for the range.  \nContact Bill Lafontaine at (717)-574-5432 or bill@erfirearmsacademy.com\, Contact Gary Marshman (951) 830-6648 or at gary@erfirearmsacademy.com \n
URL:http://erfirearmsacademy.com/event/265/
LOCATION:41601A Cherry Street\, Murrieta\, CA\, 92562\, United States
CATEGORIES:Basic Pistol
END:VEVENT
END:VCALENDAR