BEGIN:VCALENDAR
VERSION:2.0
PRODID:-//Eagle Ridge Firearms Academy - ECPv4.6.1//NONSGML v1.0//EN
CALSCALE:GREGORIAN
METHOD:PUBLISH
X-WR-CALNAME:Eagle Ridge Firearms Academy
X-ORIGINAL-URL:http://erfirearmsacademy.com
X-WR-CALDESC:Events for Eagle Ridge Firearms Academy
BEGIN:VEVENT
DTSTART;VALUE=DATE:20140531
DTEND;VALUE=DATE:20140601
DTSTAMP:20260423T190522
CREATED:20140515T211209Z
LAST-MODIFIED:20140527T154502Z
UID:246-1401494400-1401580799@erfirearmsacademy.com
SUMMARY:Day At The Range
DESCRIPTION:The Eagle Ridge Firearms Academy “Day at The Range” course teaches the basic knowledge\, skills\, and attitude for operating a pistol safely. It is designed to provide new shooters the opportunity to learn firearm safety and operation in a NO-STRESS environment. Experienced shooters will learn as well\, and enjoy the opportunity to hone their skills on Eagle Ridge Firearms Academy reactive steel targets. This course is perfect for small groups and families who want to spend the day participating in the shooting sports in a highly safe environment with experienced and professional NRA certified instructors. This course is at least 5 hours long and includes classroom and range time dedicated to learning to shoot semi-automatic pistols. Students will learn rules for safe gun handling; pistol parts and operation; ammunition; loading\, unloading and clearing a firearm. Shooting fundamentals including proper grip\, correct shooting stance and proper sight alignment and sight picture will be stressed. Students will be taught range rules and safe conduct while on the firing line. Upon completion of the “Day at The Range” students will receive an Eagle Ridge Firearms Academy certificate. \n
URL:http://erfirearmsacademy.com/event/datr-5-31-14/
LOCATION:TBA\, Eureka\, MT\, United States
CATEGORIES:A Day At The Range
END:VEVENT
END:VCALENDAR